BEGIN:VCALENDAR
VERSION:2.0
PRODID:-//Northern Texas - Northern Louisiana Synod, ELCA - ECPv6.15.20//NONSGML v1.0//EN
CALSCALE:GREGORIAN
METHOD:PUBLISH
X-ORIGINAL-URL:https://www.ntnl.org
X-WR-CALDESC:Events for Northern Texas - Northern Louisiana Synod, ELCA
REFRESH-INTERVAL;VALUE=DURATION:PT1H
X-Robots-Tag:noindex
X-PUBLISHED-TTL:PT1H
BEGIN:VTIMEZONE
TZID:America/Chicago
BEGIN:DAYLIGHT
TZOFFSETFROM:-0600
TZOFFSETTO:-0500
TZNAME:CDT
DTSTART:20150308T080000
END:DAYLIGHT
BEGIN:STANDARD
TZOFFSETFROM:-0500
TZOFFSETTO:-0600
TZNAME:CST
DTSTART:20151101T070000
END:STANDARD
BEGIN:DAYLIGHT
TZOFFSETFROM:-0600
TZOFFSETTO:-0500
TZNAME:CDT
DTSTART:20160313T080000
END:DAYLIGHT
BEGIN:STANDARD
TZOFFSETFROM:-0500
TZOFFSETTO:-0600
TZNAME:CST
DTSTART:20161106T070000
END:STANDARD
BEGIN:DAYLIGHT
TZOFFSETFROM:-0600
TZOFFSETTO:-0500
TZNAME:CDT
DTSTART:20170312T080000
END:DAYLIGHT
BEGIN:STANDARD
TZOFFSETFROM:-0500
TZOFFSETTO:-0600
TZNAME:CST
DTSTART:20171105T070000
END:STANDARD
END:VTIMEZONE
BEGIN:VEVENT
DTSTART;TZID=America/Chicago:20161024T183000
DTEND;TZID=America/Chicago:20161024T200000
DTSTAMP:20260424T071912
CREATED:20160824T050000Z
LAST-MODIFIED:20170907T141825Z
UID:16154-1477333800-1477339200@www.ntnl.org
SUMMARY:Get Ready for Wright (SMU/Perkins)
DESCRIPTION:From the Perkins Office of External Programs: \n“An incredible opportunity awaits you—ministers\, lay leaders\, church members and staff—this fall! Perkins School of Theology is bringing N.T. Wright\, Professor of New Testament and Early Christianity at the University of St. Andrews\, prolific author and retired Anglican bishop\, to SMU’s campus.  The event\, Simply Wright: N.T. Wright at Perkins|SMU\, will be held November 15-17\, 2016. This event is open to all and offers opportunities for various levels of interest. Registration for lectures\, discussions and a range of workshops offered by church leaders and the Perkins community can be found at http://www.smu.edu/Perkins/Events/NTWright. I encourage you to register soon to reserve your space. \nAmong several of Wright’s books to be discussed during the event\, Simply Good News: Why the Gospel is News and What Makes it Good\, is the featured book. A book discussion titled “Get Ready for Wright” focusing on Simply Good News will be headlined by Perkins professors\, Billy Abraham and Jack Levison\, on Monday\, October 24\, at 6:30 p.m. For more information on “Get Ready for Wright\,” email bridadmin@smu.edu or call 214-768-3483. \nLike us on Facebook for updates and reminders about Simply Wright.”
URL:https://www.ntnl.org/event/get-ready-wright-smuperkins/
END:VEVENT
BEGIN:VEVENT
DTSTART;VALUE=DATE:20161115
DTEND;VALUE=DATE:20161118
DTSTAMP:20260424T071912
CREATED:20160517T050000Z
LAST-MODIFIED:20170907T141824Z
UID:16142-1479168000-1479427199@www.ntnl.org
SUMMARY:Simply Wright: N.T. Wright @ Perkins/SMU
DESCRIPTION:All presentations and workshops to be held at Perkins School of Theology|SMU and Highland Park United Methodist Church. \n\nFrom the Perkins Office of External Programs: \nAn incredible opportunity awaits you—ministers\, lay leaders\, church members and staff! Perkins School of Theology is bringing N.T. Wright\, Professor of New Testament and Early Christianity at the University of St. Andrews\, prolific author and retired Anglican bishop\, to SMU’s campus. This event is open to all and offers opportunities for various levels of interest. Registration for lectures\, discussions and a range of workshops offered by church leaders and the Perkins community can be found at http://www.smu.edu/Perkins/Events/NTWright. \nAmong several of Wright’s books to be discussed during the event\, Simply Good News: Why the Gospel is News and What Makes it Good\, is the featured book.
URL:https://www.ntnl.org/event/simply-wright-n-t-wright-perkinssmu/
CATEGORIES:Y
ATTACH;FMTTYPE=image/png:https://www.ntnl.org/wp-content/uploads/2017/04/NT-Wright-Perkins.png
END:VEVENT
END:VCALENDAR