BEGIN:VCALENDAR
VERSION:2.0
PRODID:-//Northern Texas - Northern Louisiana Synod, ELCA - ECPv6.15.20//NONSGML v1.0//EN
CALSCALE:GREGORIAN
METHOD:PUBLISH
X-ORIGINAL-URL:https://www.ntnl.org
X-WR-CALDESC:Events for Northern Texas - Northern Louisiana Synod, ELCA
REFRESH-INTERVAL;VALUE=DURATION:PT1H
X-Robots-Tag:noindex
X-PUBLISHED-TTL:PT1H
BEGIN:VTIMEZONE
TZID:America/Chicago
BEGIN:DAYLIGHT
TZOFFSETFROM:-0600
TZOFFSETTO:-0500
TZNAME:CDT
DTSTART:20130310T080000
END:DAYLIGHT
BEGIN:STANDARD
TZOFFSETFROM:-0500
TZOFFSETTO:-0600
TZNAME:CST
DTSTART:20131103T070000
END:STANDARD
BEGIN:DAYLIGHT
TZOFFSETFROM:-0600
TZOFFSETTO:-0500
TZNAME:CDT
DTSTART:20140309T080000
END:DAYLIGHT
BEGIN:STANDARD
TZOFFSETFROM:-0500
TZOFFSETTO:-0600
TZNAME:CST
DTSTART:20141102T070000
END:STANDARD
BEGIN:DAYLIGHT
TZOFFSETFROM:-0600
TZOFFSETTO:-0500
TZNAME:CDT
DTSTART:20150308T080000
END:DAYLIGHT
BEGIN:STANDARD
TZOFFSETFROM:-0500
TZOFFSETTO:-0600
TZNAME:CST
DTSTART:20151101T070000
END:STANDARD
END:VTIMEZONE
BEGIN:VEVENT
DTSTART;TZID=America/Chicago:20141115T093000
DTEND;TZID=America/Chicago:20141115T143000
DTSTAMP:20260420T164931
CREATED:20140618T050000Z
LAST-MODIFIED:20170907T141852Z
UID:16015-1416043800-1416061800@www.ntnl.org
SUMMARY:MEF Board Meeting
DESCRIPTION:Mission Endowment Fund Board Meeting
URL:https://www.ntnl.org/event/mef-board-meeting-3/
LOCATION:DiscipleLife Center for Mission (NT-NL Mission Area\, ELCA)\, 1230 River Bend Dr. Ste 105\, Dallas\, 75247\, United States
CATEGORIES:N
GEO:32.8167743;-96.8631445
X-APPLE-STRUCTURED-LOCATION;VALUE=URI;X-ADDRESS=DiscipleLife Center for Mission (NT-NL Mission Area ELCA) 1230 River Bend Dr. Ste 105 Dallas 75247 United States;X-APPLE-RADIUS=500;X-TITLE=1230 River Bend Dr. Ste 105:geo:-96.8631445,32.8167743
END:VEVENT
BEGIN:VEVENT
DTSTART;TZID=America/Chicago:20140809T093000
DTEND;TZID=America/Chicago:20140809T143000
DTSTAMP:20260420T164931
CREATED:20140606T050000Z
LAST-MODIFIED:20170907T141853Z
UID:16014-1407576600-1407594600@www.ntnl.org
SUMMARY:MEF Board Meeting
DESCRIPTION:
URL:https://www.ntnl.org/event/mef-board-meeting-2/
LOCATION:DiscipleLife Center for Mission (NT-NL Mission Area\, ELCA)\, 1230 River Bend Dr. Ste 105\, Dallas\, 75247\, United States
CATEGORIES:N
GEO:32.8167743;-96.8631445
X-APPLE-STRUCTURED-LOCATION;VALUE=URI;X-ADDRESS=DiscipleLife Center for Mission (NT-NL Mission Area ELCA) 1230 River Bend Dr. Ste 105 Dallas 75247 United States;X-APPLE-RADIUS=500;X-TITLE=1230 River Bend Dr. Ste 105:geo:-96.8631445,32.8167743
END:VEVENT
END:VCALENDAR