BEGIN:VCALENDAR
VERSION:2.0
PRODID:-//Northern Texas - Northern Louisiana Synod, ELCA - ECPv6.15.20//NONSGML v1.0//EN
CALSCALE:GREGORIAN
METHOD:PUBLISH
X-WR-CALNAME:Northern Texas - Northern Louisiana Synod, ELCA
X-ORIGINAL-URL:https://www.ntnl.org
X-WR-CALDESC:Events for Northern Texas - Northern Louisiana Synod, ELCA
REFRESH-INTERVAL;VALUE=DURATION:PT1H
X-Robots-Tag:noindex
X-PUBLISHED-TTL:PT1H
BEGIN:VTIMEZONE
TZID:America/Chicago
BEGIN:DAYLIGHT
TZOFFSETFROM:-0600
TZOFFSETTO:-0500
TZNAME:CDT
DTSTART:20170312T080000
END:DAYLIGHT
BEGIN:STANDARD
TZOFFSETFROM:-0500
TZOFFSETTO:-0600
TZNAME:CST
DTSTART:20171105T070000
END:STANDARD
BEGIN:DAYLIGHT
TZOFFSETFROM:-0600
TZOFFSETTO:-0500
TZNAME:CDT
DTSTART:20180311T080000
END:DAYLIGHT
BEGIN:STANDARD
TZOFFSETFROM:-0500
TZOFFSETTO:-0600
TZNAME:CST
DTSTART:20181104T070000
END:STANDARD
BEGIN:DAYLIGHT
TZOFFSETFROM:-0600
TZOFFSETTO:-0500
TZNAME:CDT
DTSTART:20190310T080000
END:DAYLIGHT
BEGIN:STANDARD
TZOFFSETFROM:-0500
TZOFFSETTO:-0600
TZNAME:CST
DTSTART:20191103T070000
END:STANDARD
BEGIN:DAYLIGHT
TZOFFSETFROM:-0600
TZOFFSETTO:-0500
TZNAME:CDT
DTSTART:20200308T080000
END:DAYLIGHT
BEGIN:STANDARD
TZOFFSETFROM:-0500
TZOFFSETTO:-0600
TZNAME:CST
DTSTART:20201101T070000
END:STANDARD
END:VTIMEZONE
BEGIN:VEVENT
DTSTART;TZID=America/Chicago:20190817T093000
DTEND;TZID=America/Chicago:20190817T143000
DTSTAMP:20260423T023115
CREATED:20190503T223306Z
LAST-MODIFIED:20190716T203915Z
UID:21488-1566034200-1566052200@www.ntnl.org
SUMMARY:WELCA Annual Women's/Girl's Retreat
DESCRIPTION:Leader: The Rev. Kendra Mohn\, PhD\, Lead Pastor\, Trinity\, Fort Worth \nTopic: Esther – A Bold Woman \nBreakfast treats/Lunch provided \n  \nHosted by: \nWomen of the ELCA (WELCA) \nLord of Life\, Glenn Heights \nNew Life in Christ\, Duncanville \nOur Redeemer\, Grand Prairie \nSt. John\, Dallas \n  \nClick here for a Save the Date flyer. (updated July 16)
URL:https://www.ntnl.org/event/welca-annual-womens-girls-retreat/
LOCATION:Our Redeemer Lutheran – Grand Prairie\, 4729 S. Carrier Pkwy\, Grand Prairie\, TX\, 75052\, United States
ATTACH;FMTTYPE=image/png:https://www.ntnl.org/wp-content/uploads/2018/01/WELCA-logo.png
ORGANIZER;CN="Women of the ELCA":MAILTO:women.elca@elca.org
GEO:32.6565703;-97.0049861
X-APPLE-STRUCTURED-LOCATION;VALUE=URI;X-ADDRESS=Our Redeemer Lutheran – Grand Prairie 4729 S. Carrier Pkwy Grand Prairie TX 75052 United States;X-APPLE-RADIUS=500;X-TITLE=4729 S. Carrier Pkwy:geo:-97.0049861,32.6565703
END:VEVENT
BEGIN:VEVENT
DTSTART;TZID=America/Chicago:20180811T093000
DTEND;TZID=America/Chicago:20180811T140000
DTSTAMP:20260423T023115
CREATED:20180619T144754Z
LAST-MODIFIED:20180731T154755Z
UID:19725-1533979800-1533996000@www.ntnl.org
SUMMARY:WELCA 2018 Annual Women's & Girl's Retreat
DESCRIPTION:Annual Women’s/Girl’s Retreat \nTheme: Breathing Prayer \nLeaders: Pastors Vicki Taylor and Suzanne Guinn \nBreakfast treats/Lunch Provided \nHosted by the Women of the ELCA of Lord of Life\, Glenn Heights\, and Our Redeemer\, Grand Prairie \nClick here for an informational flyer. \nRSVP to hattie.hammer@sbcglobal.net or 972-637-3191.
URL:https://www.ntnl.org/event/welca-2018-annual-womens-girls-retreat/
LOCATION:Our Redeemer Lutheran – Grand Prairie\, 4729 S. Carrier Pkwy\, Grand Prairie\, TX\, 75052\, United States
ORGANIZER;CN="Women of the ELCA":MAILTO:women.elca@elca.org
GEO:32.6565703;-97.0049861
X-APPLE-STRUCTURED-LOCATION;VALUE=URI;X-ADDRESS=Our Redeemer Lutheran – Grand Prairie 4729 S. Carrier Pkwy Grand Prairie TX 75052 United States;X-APPLE-RADIUS=500;X-TITLE=4729 S. Carrier Pkwy:geo:-97.0049861,32.6565703
END:VEVENT
BEGIN:VEVENT
DTSTART;VALUE=DATE:20181117
DTEND;VALUE=DATE:20181118
DTSTAMP:20260423T023115
CREATED:20180524T204157Z
LAST-MODIFIED:20180524T204242Z
UID:19584-1542412800-1542499199@www.ntnl.org
SUMMARY:MEF Board meeting
DESCRIPTION:
URL:https://www.ntnl.org/event/mef-board-meeting-nov-18/
LOCATION:Our Redeemer Lutheran – Grand Prairie\, 4729 S. Carrier Pkwy\, Grand Prairie\, TX\, 75052\, United States
CATEGORIES:Mission Endowment Fund
ATTACH;FMTTYPE=image/jpeg:https://www.ntnl.org/wp-content/uploads/2017/07/MEF.jpg
GEO:32.6565703;-97.0049861
X-APPLE-STRUCTURED-LOCATION;VALUE=URI;X-ADDRESS=Our Redeemer Lutheran – Grand Prairie 4729 S. Carrier Pkwy Grand Prairie TX 75052 United States;X-APPLE-RADIUS=500;X-TITLE=4729 S. Carrier Pkwy:geo:-97.0049861,32.6565703
END:VEVENT
BEGIN:VEVENT
DTSTART;VALUE=DATE:20180519
DTEND;VALUE=DATE:20180520
DTSTAMP:20260423T023115
CREATED:20170523T050000Z
LAST-MODIFIED:20180221T171738Z
UID:16249-1526688000-1526774399@www.ntnl.org
SUMMARY:MEF Board meeting
DESCRIPTION:
URL:https://www.ntnl.org/event/mef-board-meeting-may-2018/
LOCATION:Our Redeemer Lutheran – Grand Prairie\, 4729 S. Carrier Pkwy\, Grand Prairie\, TX\, 75052\, United States
GEO:32.6565703;-97.0049861
X-APPLE-STRUCTURED-LOCATION;VALUE=URI;X-ADDRESS=Our Redeemer Lutheran – Grand Prairie 4729 S. Carrier Pkwy Grand Prairie TX 75052 United States;X-APPLE-RADIUS=500;X-TITLE=4729 S. Carrier Pkwy:geo:-97.0049861,32.6565703
END:VEVENT
END:VCALENDAR